BEGIN:VCALENDAR
VERSION:2.0
PRODID:-//199.188.221.33//NONSGML kigkonsult.se iCalcreator 2.20//
CALSCALE:GREGORIAN
METHOD:PUBLISH
X-WR-TIMEZONE:Europe/Paris
BEGIN:VEVENT
UID:event418@Hab-Fab
DTSTAMP:20260420T083751Z
CATEGORIES:Salon
DESCRIPTION:Congrès National du Bâtiment Durable (CNBD)\nCatégorie: Salon\n
 Lien: https://www.hab-fab.com/index.php?option=com_jem&view=event&id=418:c
 ongres-national-du-batiment-durable-cnbd\n
DTSTART;TZID=Europe/Paris:20231205T090000
DTEND;TZID=Europe/Paris:20231206T170000
LOCATION:Corum\,34000 Montpellier
SUMMARY:Congrès National du Bâtiment Durable (CNBD)
URL:https://www.hab-fab.com/index.php?option=com_jem&view=event&id=418:cong
 res-national-du-batiment-durable-cnbd
END:VEVENT
END:VCALENDAR
