BEGIN:VCALENDAR
VERSION:2.0
PRODID:-//199.188.221.33//NONSGML kigkonsult.se iCalcreator 2.20//
CALSCALE:GREGORIAN
METHOD:PUBLISH
X-WR-TIMEZONE:Europe/Paris
BEGIN:VEVENT
UID:event414@Hab-Fab
DTSTAMP:20260420T082940Z
CATEGORIES:Information
DESCRIPTION:Soirée d'information\, salle Galago à Montpellier\nCatégorie: I
 nformation\nLien: https://www.hab-fab.com/index.php?option=com_jem&view=ev
 ent&id=414:montpellier\n
DTSTART;TZID=Europe/Paris:20231010T183000
DTEND;TZID=Europe/Paris:20231010T200000
LOCATION:Salle Galago\,14 rue Durand\,34000 Montpellier
SUMMARY:Soirée d'information\, salle Galago à Montpellier
URL:https://www.hab-fab.com/index.php?option=com_jem&view=event&id=414:mont
 pellier
END:VEVENT
END:VCALENDAR
