BEGIN:VCALENDAR
VERSION:2.0
PRODID:-//199.188.221.33//NONSGML kigkonsult.se iCalcreator 2.20//
CALSCALE:GREGORIAN
METHOD:PUBLISH
X-WR-TIMEZONE:Europe/Paris
BEGIN:VEVENT
UID:event403@Hab-Fab
DTSTAMP:20260422T103510Z
CATEGORIES:Atelier
DESCRIPTION:Web-conférence “Les 10 mythes autour de l’habitat participatif”
 \nCatégorie: Atelier\nLien: https://www.hab-fab.com/index.php?option=com_j
 em&view=event&id=403:web-conference-les-10-mythes-autour-de-l-habitat-part
 icipatif\n
DTSTART;TZID=Europe/Paris:20220920T170000
DTEND;TZID=Europe/Paris:20220920T180000
LOCATION:Virtuel
SUMMARY:Web-conférence “Les 10 mythes autour de l’habitat participatif”
URL:https://www.hab-fab.com/index.php?option=com_jem&view=event&id=403:web-
 conference-les-10-mythes-autour-de-l-habitat-participatif
END:VEVENT
END:VCALENDAR
