BEGIN:VCALENDAR
VERSION:2.0
PRODID:-//199.188.221.33//NONSGML kigkonsult.se iCalcreator 2.20//
CALSCALE:GREGORIAN
METHOD:PUBLISH
X-WR-TIMEZONE:Europe/Paris
BEGIN:VEVENT
UID:event389@Hab-Fab
DTSTAMP:20260422T084347Z
CATEGORIES:Événement
DESCRIPTION:Journée Portes Ouvertes Montpellier\nCatégorie: Événement\nLien
 : https://www.hab-fab.com/index.php?option=com_jem&view=event&id=389:journ
 ee-portes-ouvertes-montpellier\n
DTSTART;VALUE=DATE:20210911
DTEND;VALUE=DATE:20210912
LOCATION:Halle Tropisme\,121 rue Fontcouverte\,34000 Montpellier
SUMMARY:Journée Portes Ouvertes Montpellier
URL:https://www.hab-fab.com/index.php?option=com_jem&view=event&id=389:jour
 nee-portes-ouvertes-montpellier
END:VEVENT
END:VCALENDAR
