BEGIN:VCALENDAR
VERSION:2.0
PRODID:-//199.188.221.33//NONSGML kigkonsult.se iCalcreator 2.20//
CALSCALE:GREGORIAN
METHOD:PUBLISH
X-WR-TIMEZONE:Europe/Paris
BEGIN:VEVENT
UID:event367@Hab-Fab
DTSTAMP:20260422T085444Z
CATEGORIES:Projet Bramadou (48)
DESCRIPTION:Atelier 1\nCatégorie: Projet Bramadou (48)\nLien: https://www.h
 ab-fab.com/index.php?option=com_jem&view=event&id=367:atelier-1\n
DTSTART;TZID=Europe/Paris:20201010T110000
DTEND;TZID=Europe/Paris:20201010T110000
LOCATION:Salle Polyvalente\,48400 Barre-des-Cévennes
SUMMARY:Atelier 1
URL:https://www.hab-fab.com/index.php?option=com_jem&view=event&id=367:atel
 ier-1
END:VEVENT
END:VCALENDAR
