BEGIN:VCALENDAR
VERSION:2.0
PRODID:-//199.188.221.33//NONSGML kigkonsult.se iCalcreator 2.20//
CALSCALE:GREGORIAN
METHOD:PUBLISH
X-WR-TIMEZONE:Europe/Paris
BEGIN:VEVENT
UID:event343@Hab-Fab
DTSTAMP:20260422T103459Z
CATEGORIES:Formation
DESCRIPTION:Habitat participatif  - concevoir avec les habitants\nCatégorie
 : Formation\nLien: https://www.hab-fab.com/index.php?option=com_jem&view=e
 vent&id=343:habitat-participatif-concevoir-avec-les-habitants\n
DTSTART;VALUE=DATE:20200128
DTEND;VALUE=DATE:20200130
LOCATION:Îlot Formation Montpellier\,Montpellier
SUMMARY:Habitat participatif  - concevoir avec les habitants
URL:https://www.hab-fab.com/index.php?option=com_jem&view=event&id=343:habi
 tat-participatif-concevoir-avec-les-habitants
END:VEVENT
END:VCALENDAR
