BEGIN:VCALENDAR
VERSION:2.0
PRODID:-//199.188.221.33//NONSGML kigkonsult.se iCalcreator 2.20//
CALSCALE:GREGORIAN
METHOD:PUBLISH
X-WR-TIMEZONE:Europe/Paris
BEGIN:VEVENT
UID:event330@Hab-Fab
DTSTAMP:20260422T102809Z
CATEGORIES:Projet Gimel Grabels
DESCRIPTION:Atelier\nCatégorie: Projet Gimel Grabels\nLien: https://www.hab
 -fab.com/index.php?option=com_jem&view=event&id=330:atelier\n
DTSTART;TZID=Europe/Paris:20191207T093000
DTEND;TZID=Europe/Paris:20191207T140000
LOCATION:Halle Tropisme\,121 rue Fontcouverte\,34000 Montpellier
SUMMARY:Atelier
URL:https://www.hab-fab.com/index.php?option=com_jem&view=event&id=330:atel
 ier
END:VEVENT
END:VCALENDAR
