BEGIN:VCALENDAR
VERSION:2.0
PRODID:-//199.188.221.33//NONSGML kigkonsult.se iCalcreator 2.20//
CALSCALE:GREGORIAN
METHOD:PUBLISH
X-WR-TIMEZONE:Europe/Paris
BEGIN:VEVENT
UID:event216@Hab-Fab
DTSTAMP:20260422T120521Z
CATEGORIES:Projet Couffouleux (81)
DESCRIPTION:Point d'info\nCatégorie: Projet Couffouleux (81)\nLien: https:/
 /www.hab-fab.com/index.php?option=com_jem&view=event&id=216:point-d-info\n
DTSTART;TZID=Europe/Paris:20170921T180000
DTEND;TZID=Europe/Paris:20170921T180000
LOCATION:Le Banc Sonore\,22 Prom. des Lices\,81800 Rabastens
SUMMARY:Point d'info
URL:https://www.hab-fab.com/index.php?option=com_jem&view=event&id=216:poin
 t-d-info
END:VEVENT
END:VCALENDAR
